BEGIN:VCALENDAR
VERSION:2.0
PRODID:-//Ecclesiact 3.3.6b//EN
CALSCALE:GREGORIAN
METHOD:PUBLISH
X-WR-TIMEZONE:America/Toronto
BEGIN:VEVENT
UID:804422214
TRANSP:OPAQUE
STATUS:CONFIRMED
SEQUENCE:0
CLASS:PUBLIC
DTSTART:20091016T233000Z
DTEND:20091017T023000Z
DTSTAMP:20110612T185655Z
SUMMARY:Lifesaver's Youth Group
DESCRIPTION:Senior High program for High School students  https://wpc.ecclesiact.com/lifesavers-youth-group
END:VEVENT
END:VCALENDAR
