BEGIN:VCALENDAR
VERSION:2.0
PRODID:-//Ecclesiact 3.3.6b//EN
CALSCALE:GREGORIAN
METHOD:PUBLISH
X-WR-TIMEZONE:America/Toronto
BEGIN:VEVENT
UID:806602977
TRANSP:OPAQUE
STATUS:CONFIRMED
SEQUENCE:0
CLASS:PUBLIC
DTSTART:20100227T130000Z
DTEND:20100227T143000Z
DTSTAMP:20110612T185655Z
SUMMARY:Men's Breakfast
DESCRIPTION:Men!  Join us again for more meaningful discussion and fellowship!  We meet at the church for breakfast at 8 AM.  https://wpc.ecclesiact.com/mens-breakfast
END:VEVENT
END:VCALENDAR
