BEGIN:VCALENDAR
VERSION:2.0
PRODID:-//Ecclesiact 3.3.6b//EN
CALSCALE:GREGORIAN
METHOD:PUBLISH
X-WR-TIMEZONE:America/Toronto
BEGIN:VEVENT
UID:839749235
TRANSP:OPAQUE
STATUS:CONFIRMED
SEQUENCE:0
CLASS:PUBLIC
DTSTART;VALUE=DATE:20091018
DTEND;VALUE=DATE:20091019
DTSTAMP:20110612T185655Z
SUMMARY:Bible Fellowship Group
DESCRIPTION:  https://wpc.ecclesiact.com/bible-fellowship-group
END:VEVENT
END:VCALENDAR
