BEGIN:VCALENDAR
VERSION:2.0
PRODID:-//Ecclesiact 3.3.6b//EN
CALSCALE:GREGORIAN
METHOD:PUBLISH
X-WR-TIMEZONE:America/Toronto
BEGIN:VEVENT
UID:859405429
TRANSP:OPAQUE
STATUS:CONFIRMED
SEQUENCE:0
CLASS:PUBLIC
DTSTART:20090414T133000Z
DTEND:20090414T153000Z
DTSTAMP:20110612T185655Z
SUMMARY:Ladies' Coffee Hour
DESCRIPTION:Meet in the downstairs lounge.  https://wpc.ecclesiact.com/ladies-coffee-hour
END:VEVENT
END:VCALENDAR
