BEGIN:VCALENDAR
VERSION:2.0
PRODID:-//Ecclesiact 3.3.6b//EN
CALSCALE:GREGORIAN
METHOD:PUBLISH
X-WR-TIMEZONE:America/Toronto
BEGIN:VEVENT
UID:867975212
TRANSP:OPAQUE
STATUS:CONFIRMED
SEQUENCE:0
CLASS:PUBLIC
DTSTART;VALUE=DATE:20090315
DTEND;VALUE=DATE:20090316
DTSTAMP:20110612T185655Z
SUMMARY:Worship Service with Children's Program
DESCRIPTION:WORSHIP SERVICE SPEAKER:  Pastor Peters    CHILDREN'S PROGRAM:  Sunday School Teacher - Joan Wanuch         Today's Lesson:  &quot;The Last Supper&quot;          Bible Verse:  Do this in remembrance of me.  Luke 22:19         This week's Bible story is from Luke 22:7-23         Faith Point:  Through Communion, we remember Jesus and the words He spoke.  https://wpc.ecclesiact.com/sunday-service-with-childrens-program
END:VEVENT
END:VCALENDAR
