BEGIN:VCALENDAR
VERSION:2.0
PRODID:-//Ecclesiact 3.3.6b//EN
CALSCALE:GREGORIAN
METHOD:PUBLISH
X-WR-TIMEZONE:America/Toronto
BEGIN:VEVENT
UID:890956275
TRANSP:OPAQUE
STATUS:CONFIRMED
SEQUENCE:0
CLASS:PUBLIC
DTSTART;VALUE=DATE:20110517
DTEND;VALUE=DATE:20110518
DTSTAMP:20110612T185655Z
SUMMARY:Seniors' Outing
DESCRIPTION:All Seniors are welcome to join us for a lovely day together, first at the Canadiana Restaurant for lunch at 12:00 noon, followed by a visit to the Etobicoke Conservatory. Call Ken Davey at 416-244-9744 for any questions.     Th Canadiana Restaurant we will be going to is in the Six Points Plaza in South Etobicoke.   https://wpc.ecclesiact.com/seniors-outing
END:VEVENT
END:VCALENDAR
