BEGIN:VCALENDAR
VERSION:2.0
PRODID:-//Ecclesiact 3.3.6b//EN
CALSCALE:GREGORIAN
METHOD:PUBLISH
X-WR-TIMEZONE:America/Toronto
BEGIN:VEVENT
UID:890974982
TRANSP:OPAQUE
STATUS:CONFIRMED
SEQUENCE:0
CLASS:PUBLIC
DTSTART;VALUE=DATE:20091129
DTEND;VALUE=DATE:20091130
DTSTAMP:20110612T185655Z
SUMMARY:Lifesaver's Bible Study & Lunch
DESCRIPTION:  https://wpc.ecclesiact.com/lifesavers-bible-study--lunch
END:VEVENT
END:VCALENDAR
