BEGIN:VCALENDAR
VERSION:2.0
PRODID:-//Ecclesiact 3.3.6b//EN
CALSCALE:GREGORIAN
METHOD:PUBLISH
X-WR-TIMEZONE:America/Toronto
BEGIN:VEVENT
UID:897651778
TRANSP:OPAQUE
STATUS:CONFIRMED
SEQUENCE:0
CLASS:PUBLIC
DTSTART:20090528T230000Z
DTEND:20090529T010000Z
DTSTAMP:20110612T185655Z
SUMMARY:Endeavours Youth Program - End of Year Dinner
DESCRIPTION:  https://wpc.ecclesiact.com/endeavours-youth-program-end-of-year-dinner
END:VEVENT
END:VCALENDAR
