BEGIN:VCALENDAR
VERSION:2.0
PRODID:-//Ecclesiact 3.3.6b//EN
CALSCALE:GREGORIAN
METHOD:PUBLISH
X-WR-TIMEZONE:America/Toronto
BEGIN:VEVENT
UID:947073674
TRANSP:OPAQUE
STATUS:CONFIRMED
SEQUENCE:0
CLASS:PUBLIC
DTSTART:20070805T143000Z
DTEND:20070805T160000Z
DTSTAMP:20110612T185655Z
SUMMARY:Pastor Werner is back!
DESCRIPTION:This Sunday he is speaking on "The Holy Spirit as Teacher" from John 14.  https://wpc.ecclesiact.com/event/947073674
END:VEVENT
END:VCALENDAR
