BEGIN:VCALENDAR
VERSION:2.0
PRODID:-//Ecclesiact 3.3.6b//EN
CALSCALE:GREGORIAN
METHOD:PUBLISH
X-WR-TIMEZONE:America/Toronto
BEGIN:VEVENT
UID:964463540
TRANSP:OPAQUE
STATUS:CONFIRMED
SEQUENCE:0
CLASS:PUBLIC
DTSTART;VALUE=DATE:20080130
DTEND;VALUE=DATE:20080131
DTSTAMP:20110612T185655Z
SUMMARY:Senior's Lunch
DESCRIPTION:The Seniors will have lunch at Tuckers, and return to the church for board games.  Join us!  All ages welcome.  https://wpc.ecclesiact.com/event/964463540
END:VEVENT
END:VCALENDAR
