BEGIN:VCALENDAR
VERSION:2.0
PRODID:-//Ecclesiact 3.3.6b//EN
CALSCALE:GREGORIAN
METHOD:PUBLISH
X-WR-TIMEZONE:America/Toronto
BEGIN:VEVENT
UID:982957921
TRANSP:OPAQUE
STATUS:CONFIRMED
SEQUENCE:0
CLASS:PUBLIC
DTSTART;VALUE=DATE:20080419
DTEND;VALUE=DATE:20080420
DTSTAMP:20110612T185655Z
SUMMARY:Westmount Ministries Missions Conference
DESCRIPTION:Join us this weekend for our Missions Conference!  Our theme this year: Giving Thanks for the Harvest  https://wpc.ecclesiact.com/event/982957921
END:VEVENT
END:VCALENDAR
