BEGIN:VCALENDAR
VERSION:2.0
PRODID:-//Ecclesiact 3.3.6b//EN
CALSCALE:GREGORIAN
METHOD:PUBLISH
X-WR-TIMEZONE:America/Toronto
BEGIN:VEVENT
UID:98464548
TRANSP:OPAQUE
STATUS:CONFIRMED
SEQUENCE:0
CLASS:PUBLIC
DTSTART:20101231T233000Z
DTEND:20110101T020000Z
DTSTAMP:20110612T185655Z
SUMMARY:New Year's Eve Service
DESCRIPTION:Come share communion together as we start off the new year with worship for the one who gives it to us.  https://wpc.ecclesiact.com/new-years-eve-service
END:VEVENT
END:VCALENDAR
