BEGIN:VCALENDAR
VERSION:2.0
PRODID:-//Ecclesiact 3.3.6b//EN
CALSCALE:GREGORIAN
METHOD:PUBLISH
X-WR-TIMEZONE:America/Toronto
BEGIN:VEVENT
UID:996559010
TRANSP:OPAQUE
STATUS:CONFIRMED
SEQUENCE:0
CLASS:PUBLIC
DTSTART;VALUE=DATE:20090322
DTEND;VALUE=DATE:20090323
DTSTAMP:20110612T185655Z
SUMMARY:Worship Service with Children's Program
DESCRIPTION:Worship Service Speaker:  Pastor Peters.    Children's Program:  Sunday School Teacher - Joan Wanuch.  Today's Lesson:  &quot;Jesus Prays&quot;.  Bible Verse:  The Lord is near to all who call on Him.  Psalm 145:18.  Bible story from Matthew 26:36-46.  Faith Point:  I can ask for God's help anytime.  https://wpc.ecclesiact.com/sunday-worship-service-with-childrens-program
END:VEVENT
END:VCALENDAR
